BEGIN:VCALENDAR
VERSION:2.0
PRODID:-//Ackworth Mill Dam School - ECPv5.1.4//NONSGML v1.0//EN
CALSCALE:GREGORIAN
METHOD:PUBLISH
X-WR-CALNAME:Ackworth Mill Dam School
X-ORIGINAL-URL:https://milldamschool.org
X-WR-CALDESC:Events for Ackworth Mill Dam School
BEGIN:VTIMEZONE
TZID:Europe/London
BEGIN:DAYLIGHT
TZOFFSETFROM:+0000
TZOFFSETTO:+0100
TZNAME:BST
DTSTART:20230326T010000
END:DAYLIGHT
BEGIN:STANDARD
TZOFFSETFROM:+0100
TZOFFSETTO:+0000
TZNAME:GMT
DTSTART:20231029T010000
END:STANDARD
END:VTIMEZONE
BEGIN:VEVENT
DTSTART;VALUE=DATE:20230906
DTEND;VALUE=DATE:20230907
DTSTAMP:20260415T092246
CREATED:20230830T112755Z
LAST-MODIFIED:20230830T112755Z
UID:4901-1693958400-1694044799@milldamschool.org
SUMMARY:Back to school
DESCRIPTION:
URL:https://milldamschool.org/event/back-to-school/
END:VEVENT
END:VCALENDAR